BEGIN:VCALENDAR
VERSION:2.0
PRODID:-//wp-events-plugin.com//7.2.3.1//EN
TZID:Europe/Rome
X-WR-TIMEZONE:Europe/Rome
BEGIN:VEVENT
UID:11@freechapteritalia.it
DTSTART;TZID=Europe/Rome:20260612T000000
DTEND;TZID=Europe/Rome:20260614T000000
DTSTAMP:20260414T145050Z
URL:https://www.freechapteritalia.it/events/test/
SUMMARY:POOL PARTY
DESCRIPTION:LUCCA
ATTACH;FMTTYPE=image/jpeg:https://www.freechapteritalia.it/wp-content/uplo
 ads/2026/02/12-14-GIUGNO-2026-copia.jpg
END:VEVENT
BEGIN:VTIMEZONE
TZID:Europe/Rome
X-LIC-LOCATION:Europe/Rome
BEGIN:DAYLIGHT
DTSTART:20260329T030000
TZOFFSETFROM:+0100
TZOFFSETTO:+0200
TZNAME:CEST
END:DAYLIGHT
END:VTIMEZONE
END:VCALENDAR