BEGIN:VCALENDAR
VERSION:2.0
PRODID:-//wp-events-plugin.com//7.2.3.1//EN
TZID:Europe/Rome
X-WR-TIMEZONE:Europe/Rome
BEGIN:VEVENT
UID:7@freechapteritalia.it
DTSTART;TZID=Europe/Rome:20261114T000000
DTEND;TZID=Europe/Rome:20261115T000000
DTSTAMP:20260203T143615Z
URL:https://www.freechapteritalia.it/events/riunione-direttori/
SUMMARY:RIUNIONE DIRETTORI
DESCRIPTION:Bologna - FREE CHAPTER ITALIA / CONSIGLIO NAZIONALE
ATTACH;FMTTYPE=image/jpeg:https://www.freechapteritalia.it/wp-content/uplo
 ads/2026/01/website-pagina-in-costruzione2.jpg
END:VEVENT
BEGIN:VTIMEZONE
TZID:Europe/Rome
X-LIC-LOCATION:Europe/Rome
BEGIN:STANDARD
DTSTART:20261025T020000
TZOFFSETFROM:+0200
TZOFFSETTO:+0100
TZNAME:CET
END:STANDARD
END:VTIMEZONE
END:VCALENDAR