BEGIN:VCALENDAR
VERSION:2.0
PRODID:-//wp-events-plugin.com//7.2.3.1//EN
TZID:Europe/Rome
X-WR-TIMEZONE:Europe/Rome
BEGIN:VEVENT
UID:6@freechapteritalia.it
DTSTART;TZID=Europe/Rome:20261023T000000
DTEND;TZID=Europe/Rome:20261025T000000
DTSTAMP:20260203T143557Z
URL:https://www.freechapteritalia.it/events/end-season-free-spirit/
SUMMARY:END SEASON FREE SPIRIT
DESCRIPTION:Arezzo - Isola d'Elba (LI) - FREE CHAPTER ARRETIVM
ATTACH;FMTTYPE=image/jpeg:https://www.freechapteritalia.it/wp-content/uplo
 ads/2026/01/website-pagina-in-costruzione2.jpg
END:VEVENT
BEGIN:VTIMEZONE
TZID:Europe/Rome
X-LIC-LOCATION:Europe/Rome
BEGIN:DAYLIGHT
DTSTART:20260329T030000
TZOFFSETFROM:+0100
TZOFFSETTO:+0200
TZNAME:CEST
END:DAYLIGHT
END:VTIMEZONE
END:VCALENDAR