BEGIN:VCALENDAR
VERSION:2.0
PRODID:-//wp-events-plugin.com//7.2.3.1//EN
TZID:Europe/Rome
X-WR-TIMEZONE:Europe/Rome
BEGIN:VEVENT
UID:1@freechapteritalia.it
DTSTART;TZID=Europe/Rome:20260529T000000
DTEND;TZID=Europe/Rome:20260531T000000
DTSTAMP:20260306T072856Z
URL:https://www.freechapteritalia.it/events/capo-nord/
SUMMARY:FREE RUN - RED HOT CHILI RUN
DESCRIPTION:Amantea (CS) - Free Chapter BAD UNCLES
ATTACH;FMTTYPE=image/jpeg:https://www.freechapteritalia.it/wp-content/uplo
 ads/2026/01/647430980_10233546305699487_1799641613478300989_n.jpg
END:VEVENT
BEGIN:VTIMEZONE
TZID:Europe/Rome
X-LIC-LOCATION:Europe/Rome
BEGIN:DAYLIGHT
DTSTART:20260329T030000
TZOFFSETFROM:+0100
TZOFFSETTO:+0200
TZNAME:CEST
END:DAYLIGHT
END:VTIMEZONE
END:VCALENDAR