BEGIN:VCALENDAR
VERSION:2.0
PRODID:-//wp-events-plugin.com//7.2.3.1//EN
TZID:Europe/Rome
X-WR-TIMEZONE:Europe/Rome
BEGIN:VEVENT
UID:3@freechapteritalia.it
DTSTART;TZID=Europe/Rome:20260710T000000
DTEND;TZID=Europe/Rome:20260712T000000
DTSTAMP:20260203T143925Z
URL:https://www.freechapteritalia.it/events/berlino/
SUMMARY:SUPER GAS FEST
DESCRIPTION:Roletto (TO) - FREE CHAPTER SUPERGA
ATTACH;FMTTYPE=image/jpeg:https://www.freechapteritalia.it/wp-content/uplo
 ads/2026/01/Locandina-Primario-FC-Superga-3-scaled.jpg
END:VEVENT
BEGIN:VTIMEZONE
TZID:Europe/Rome
X-LIC-LOCATION:Europe/Rome
BEGIN:DAYLIGHT
DTSTART:20260329T030000
TZOFFSETFROM:+0100
TZOFFSETTO:+0200
TZNAME:CEST
END:DAYLIGHT
END:VTIMEZONE
END:VCALENDAR